BEGIN:VCALENDAR
VERSION:2.0
PRODID:-//City of Cordova, Alaska - ECPv6.15.20//NONSGML v1.0//EN
CALSCALE:GREGORIAN
METHOD:PUBLISH
X-ORIGINAL-URL:https://www.cityofcordova.net
X-WR-CALDESC:Events for City of Cordova, Alaska
REFRESH-INTERVAL;VALUE=DURATION:PT1H
X-Robots-Tag:noindex
X-PUBLISHED-TTL:PT1H
BEGIN:VTIMEZONE
TZID:America/Anchorage
BEGIN:DAYLIGHT
TZOFFSETFROM:-0900
TZOFFSETTO:-0800
TZNAME:AKDT
DTSTART:20200308T110000
END:DAYLIGHT
BEGIN:STANDARD
TZOFFSETFROM:-0800
TZOFFSETTO:-0900
TZNAME:AKST
DTSTART:20201101T100000
END:STANDARD
BEGIN:DAYLIGHT
TZOFFSETFROM:-0900
TZOFFSETTO:-0800
TZNAME:AKDT
DTSTART:20210314T110000
END:DAYLIGHT
BEGIN:STANDARD
TZOFFSETFROM:-0800
TZOFFSETTO:-0900
TZNAME:AKST
DTSTART:20211107T100000
END:STANDARD
BEGIN:DAYLIGHT
TZOFFSETFROM:-0900
TZOFFSETTO:-0800
TZNAME:AKDT
DTSTART:20220313T110000
END:DAYLIGHT
BEGIN:STANDARD
TZOFFSETFROM:-0800
TZOFFSETTO:-0900
TZNAME:AKST
DTSTART:20221106T100000
END:STANDARD
END:VTIMEZONE
BEGIN:VEVENT
DTSTART;TZID=America/Anchorage:20210602T184500
DTEND;TZID=America/Anchorage:20210602T190000
DTSTAMP:20260422T225805
CREATED:20210528T225903Z
LAST-MODIFIED:20210528T230204Z
UID:5918-1622659500-1622660400@www.cityofcordova.net
SUMMARY:City Council Public Hearing
DESCRIPTION:06-02-21 Public Hearing Agenda
URL:https://www.cityofcordova.net/event/city-council-public-hearing-3/
LOCATION:Cordova Center\, 601 1st Street\, Cordova\, AK\, 99574\, United States
ORGANIZER;CN="Susan Bourgeois":MAILTO:cityclerk@cityofcordova.net
END:VEVENT
BEGIN:VEVENT
DTSTART;TZID=America/Anchorage:20210602T190000
DTEND;TZID=America/Anchorage:20210602T190000
DTSTAMP:20260422T225805
CREATED:20210528T230008Z
LAST-MODIFIED:20210528T230008Z
UID:5919-1622660400-1622660400@www.cityofcordova.net
SUMMARY:City Council Regular Meeting
DESCRIPTION:06-02-21 Regular Meeting Packet
URL:https://www.cityofcordova.net/event/city-council-regular-meeting-4/
LOCATION:Cordova Center\, 601 1st Street\, Cordova\, AK\, 99574\, United States
ORGANIZER;CN="Susan Bourgeois":MAILTO:cityclerk@cityofcordova.net
END:VEVENT
BEGIN:VEVENT
DTSTART;TZID=America/Anchorage:20210610T183000
DTEND;TZID=America/Anchorage:20210610T183000
DTSTAMP:20260422T225805
CREATED:20210218T194759Z
LAST-MODIFIED:20210603T202415Z
UID:4385-1623349800-1623349800@www.cityofcordova.net
SUMMARY:Planning Commission Regular Meeting - June 10\, 2021
DESCRIPTION:Planning Commission Regular Meetings are held the second Tuesday of each month at 6:30 PM unless otherwise posted.\nMeeting Minutes can be found here » \nPlanning Commission Regular Meeting held in the Cordova Center Community Rooms. \nContact:\n907-424-6220\nplanning@cityofcordova.net
URL:https://www.cityofcordova.net/event/planning-commission-regular-meeting-june-8-2021/
LOCATION:Cordova Center\, 601 1st Street\, Cordova\, AK\, 99574\, United States
CATEGORIES:Planning Commission
END:VEVENT
BEGIN:VEVENT
DTSTART;TZID=America/Anchorage:20210616T184500
DTEND;TZID=America/Anchorage:20210616T210000
DTSTAMP:20260422T225805
CREATED:20210612T002605Z
LAST-MODIFIED:20210612T002605Z
UID:5960-1623869100-1623877200@www.cityofcordova.net
SUMMARY:City Council Public Hearing and Regular Meeting
DESCRIPTION:The Packet and Agenda for this meeting can be found here : HERE
URL:https://www.cityofcordova.net/event/city-council-public-hearing-and-regular-meeting-3/
LOCATION:Cordova Center\, 601 1st Street\, Cordova\, AK\, 99574\, United States
END:VEVENT
BEGIN:VEVENT
DTSTART;TZID=America/Anchorage:20210629T180000
DTEND;TZID=America/Anchorage:20210629T200000
DTSTAMP:20260422T225805
CREATED:20210623T204344Z
LAST-MODIFIED:20210623T204344Z
UID:6005-1624989600-1624996800@www.cityofcordova.net
SUMMARY:Parks and Recreation Regular Commission Meeting
DESCRIPTION:The packet for this meeting can be found here : Meeting Packet
URL:https://www.cityofcordova.net/event/parks-and-recreation-regular-commission-meeting/
LOCATION:Cordova Center\, 601 1st Street\, Cordova\, AK\, 99574\, United States
END:VEVENT
BEGIN:VEVENT
DTSTART;TZID=America/Anchorage:20210630T180000
DTEND;TZID=America/Anchorage:20210630T180000
DTSTAMP:20260422T225805
CREATED:20210624T170929Z
LAST-MODIFIED:20210624T170929Z
UID:6009-1625076000-1625076000@www.cityofcordova.net
SUMMARY:CCMC Board of Director's Regular Meeting
DESCRIPTION:The packet for this meeting can be found : HERE
URL:https://www.cityofcordova.net/event/ccmc-board-of-directors-regular-meeting-2/
LOCATION:Zoom
END:VEVENT
END:VCALENDAR